BEGIN:VCALENDAR
VERSION:2.0
PRODID:-//hacksw/handcal//NONSGML v1.0//EN
BEGIN:VEVENT
SUMMARY:100% Feminin 2025-26
UID:66aaf2a9-6281-4483-b3f2-dcfd545a2ef5
DTSTART:20260509T220000Z
DTEND:20260510T220000Z
LOCATION:Localisation   
CATEGORIES:Sportif
STATUS:
URL;VALUE=URI:https://www.mas-badminton.com/evenements/2026/05/10/100-feminin-2025-26-2443479
END:VEVENT
END:VCALENDAR
